BEGIN:VCALENDAR
VERSION:2.0
PRODID:SchoolNow
CALSCALE:GREGORIAN
BEGIN:VEVENT
UID:3830ee6e-ca2e-11ef-b0c6-02f4c9f21241
DTSTAMP:20260419T090010Z
SUMMARY:BOE Reorganization Meeting
URL;VALUE=URI:https://www.netcongschool.org/calendar/7264121/boe-reorganiza
 tion-meeting
DTSTART:20260107T000000Z
DTEND:20260107T020000Z
END:VEVENT
END:VCALENDAR
