BEGIN:VCALENDAR
VERSION:2.0
PRODID:SchoolNow
CALSCALE:GREGORIAN
BEGIN:VEVENT
UID:90cda42c-ea72-11ef-a2a0-0affde8c3b4d
DTSTAMP:20260419T211007Z
SUMMARY:Kurt's Bday
URL;VALUE=URI:https://www.netcongschool.org/calendar/7465361/kurts-bday
DTSTART;VALUE=DATE:20261014
DTEND;VALUE=DATE:20261015
END:VEVENT
END:VCALENDAR
