BEGIN:VCALENDAR
VERSION:2.0
PRODID:SchoolNow
CALSCALE:GREGORIAN
BEGIN:VEVENT
UID:fb7edb1c-0ffa-11f0-abe8-0a58a9feac02
DTSTAMP:20260419T090010Z
SUMMARY:Talent Show
URL;VALUE=URI:https://www.netcongschool.org/calendar/7835569/talent-show
DTSTART:20260220T200000Z
DTEND:20260221T020000Z
END:VEVENT
END:VCALENDAR
