BEGIN:VCALENDAR
VERSION:2.0
PRODID:SchoolNow
CALSCALE:GREGORIAN
BEGIN:VEVENT
UID:cea21dac-642d-11f0-bd53-0a58a9feac02
DTSTAMP:20260419T150507Z
SUMMARY:Early Dismissal
URL;VALUE=URI:https://www.netcongschool.org/calendar/8428630/early-dismissa
 l
DTSTART:20251223T173700Z
DTEND:20251223T180700Z
END:VEVENT
END:VCALENDAR
