BEGIN:VCALENDAR
VERSION:2.0
PRODID:SchoolNow
CALSCALE:GREGORIAN
BEGIN:VEVENT
UID:cea21fa0-642d-11f0-af24-0a58a9feac02
DTSTAMP:20260419T150507Z
SUMMARY:Winter Recess School CLOSED
URL;VALUE=URI:https://www.netcongschool.org/calendar/8428632/winter-recess-
 school-closed
DTSTART;VALUE=DATE:20251224
DTEND;VALUE=DATE:20251225
END:VEVENT
END:VCALENDAR
