BEGIN:VCALENDAR
VERSION:2.0
PRODID:SchoolNow
CALSCALE:GREGORIAN
BEGIN:VEVENT
UID:cea22180-642d-11f0-b7cd-0a58a9feac02
DTSTAMP:20260419T150507Z
SUMMARY:Winter Recess School CLOSED
URL;VALUE=URI:https://www.netcongschool.org/calendar/8428634/winter-recess-
 school-closed
DTSTART;VALUE=DATE:20251231
DTEND;VALUE=DATE:20260101
END:VEVENT
END:VCALENDAR
