BEGIN:VCALENDAR
VERSION:2.0
PRODID:SchoolNow
CALSCALE:GREGORIAN
BEGIN:VEVENT
UID:cea22266-642d-11f0-ae5e-0a58a9feac02
DTSTAMP:20260419T090010Z
SUMMARY:Winter Recess School CLOSED
URL;VALUE=URI:https://www.netcongschool.org/calendar/8428635/winter-recess-
 school-closed
DTSTART;VALUE=DATE:20260101
DTEND;VALUE=DATE:20260102
END:VEVENT
END:VCALENDAR
