BEGIN:VCALENDAR
VERSION:2.0
PRODID:SchoolNow
CALSCALE:GREGORIAN
BEGIN:VEVENT
UID:cea2234c-642d-11f0-bad7-0a58a9feac02
DTSTAMP:20260419T150507Z
SUMMARY:Winter Recess School CLOSED for Students - District Open for Main O
 ffice Staff
URL;VALUE=URI:https://www.netcongschool.org/calendar/8428636/winter-recess-
 school-closed-for-students-district-open-for-main-office-staff
DTSTART;VALUE=DATE:20251229
DTEND;VALUE=DATE:20251231
END:VEVENT
END:VCALENDAR
