BEGIN:VCALENDAR
VERSION:2.0
PRODID:SchoolNow
CALSCALE:GREGORIAN
BEGIN:VEVENT
UID:88737c3e-698e-11f0-8587-0a58a9feac02
DTSTAMP:20260419T090010Z
SUMMARY:School Reopens
URL;VALUE=URI:https://www.netcongschool.org/calendar/8446526/school-reopens
DTSTART;VALUE=DATE:20260105
DTEND;VALUE=DATE:20260106
END:VEVENT
END:VCALENDAR
