BEGIN:VCALENDAR
VERSION:2.0
PRODID:SchoolNow
CALSCALE:GREGORIAN
BEGIN:VEVENT
UID:88737f68-698e-11f0-bbd8-0a58a9feac02
DTSTAMP:20260419T090010Z
SUMMARY:School Closed
URL;VALUE=URI:https://www.netcongschool.org/calendar/8446527/school-closed
DTSTART;VALUE=DATE:20260119
DTEND;VALUE=DATE:20260120
END:VEVENT
END:VCALENDAR
