BEGIN:VCALENDAR
VERSION:2.0
PRODID:SchoolNow
CALSCALE:GREGORIAN
BEGIN:VEVENT
UID:887382ce-698e-11f0-8176-0a58a9feac02
DTSTAMP:20260419T090010Z
SUMMARY:BB Practice - Gym
URL;VALUE=URI:https://www.netcongschool.org/calendar/8446530/bb-practice-gy
 m
DTSTART:20260128T200000Z
DTEND:20260129T230000Z
END:VEVENT
END:VCALENDAR
