BEGIN:VCALENDAR
VERSION:2.0
PRODID:SchoolNow
CALSCALE:GREGORIAN
BEGIN:VEVENT
UID:713b6922-6bbf-11f0-b213-023e5843fdeb
DTSTAMP:20260419T090010Z
SUMMARY:BB Practice - Gym
URL;VALUE=URI:https://www.netcongschool.org/calendar/8452213/bb-practice-gy
 m
DTSTART:20260126T200000Z
DTEND:20260126T230000Z
END:VEVENT
END:VCALENDAR
