BEGIN:VCALENDAR
VERSION:2.0
PRODID:SchoolNow
CALSCALE:GREGORIAN
BEGIN:VEVENT
UID:713b6b02-6bbf-11f0-be45-023e5843fdeb
DTSTAMP:20260419T090010Z
SUMMARY:BB Practice - Gym
URL;VALUE=URI:https://www.netcongschool.org/calendar/8452215/bb-practice-gy
 m
DTSTART:20260105T203000Z
DTEND:20260105T220000Z
END:VEVENT
END:VCALENDAR
