BEGIN:VCALENDAR
VERSION:2.0
PRODID:SchoolNow
CALSCALE:GREGORIAN
BEGIN:VEVENT
UID:93611b9e-7d46-11f0-acc9-0a58a9feac02
DTSTAMP:20260419T090010Z
SUMMARY:Spring Concert & Art Show Gym
URL;VALUE=URI:https://www.netcongschool.org/calendar/8523343/spring-concert
 -art-show-gym
DTSTART:20260514T220000Z
DTEND:20260515T000000Z
END:VEVENT
END:VCALENDAR
