BEGIN:VCALENDAR
VERSION:2.0
PRODID:SchoolNow
CALSCALE:GREGORIAN
BEGIN:VEVENT
UID:93611c98-7d46-11f0-a379-0a58a9feac02
DTSTAMP:20260419T090010Z
SUMMARY:School Closed
URL;VALUE=URI:https://www.netcongschool.org/calendar/8523344/school-closed
DTSTART;VALUE=DATE:20260525
DTEND;VALUE=DATE:20260526
END:VEVENT
END:VCALENDAR
