BEGIN:VCALENDAR
VERSION:2.0
PRODID:SchoolNow
CALSCALE:GREGORIAN
BEGIN:VEVENT
UID:7fba9e6a-7eab-11f0-91e7-0a58a9feac02
DTSTAMP:20260419T150507Z
SUMMARY:Early Dismissal
URL;VALUE=URI:https://www.netcongschool.org/calendar/8528948/early-dismissa
 l
DTSTART:20260622T163700Z
DTEND:20260624T170700Z
END:VEVENT
END:VCALENDAR
