BEGIN:VCALENDAR
VERSION:2.0
PRODID:SchoolNow
CALSCALE:GREGORIAN
BEGIN:VEVENT
UID:7fbaa202-7eab-11f0-a6df-0a58a9feac02
DTSTAMP:20260419T150507Z
SUMMARY:Field Day
URL;VALUE=URI:https://www.netcongschool.org/calendar/8528949/field-day
DTSTART:20260615T123000Z
DTEND:20260615T130000Z
END:VEVENT
END:VCALENDAR
