BEGIN:VCALENDAR
VERSION:2.0
PRODID:SchoolNow
CALSCALE:GREGORIAN
BEGIN:VEVENT
UID:7fbaa342-7eab-11f0-97f4-0a58a9feac02
DTSTAMP:20260419T150507Z
SUMMARY:Field Day Rain Date
URL;VALUE=URI:https://www.netcongschool.org/calendar/8528950/field-day-rain
 -date
DTSTART:20260623T123000Z
DTEND:20260623T130000Z
END:VEVENT
END:VCALENDAR
