BEGIN:VCALENDAR
VERSION:2.0
PRODID:SchoolNow
CALSCALE:GREGORIAN
BEGIN:VEVENT
UID:7fbaa45a-7eab-11f0-99c8-0a58a9feac02
DTSTAMP:20260419T150507Z
SUMMARY:8th Gr Graduation
URL;VALUE=URI:https://www.netcongschool.org/calendar/8528951/8th-gr-graduat
 ion
DTSTART:20260624T220000Z
DTEND:20260624T230000Z
END:VEVENT
END:VCALENDAR
