BEGIN:VCALENDAR
VERSION:2.0
PRODID:SchoolNow
CALSCALE:GREGORIAN
BEGIN:VEVENT
UID:56ab5d66-d5db-11f0-903b-0affebac11b3
DTSTAMP:20260419T090010Z
SUMMARY:NJ4S Executive Functioning Skills Presentation in the Gym
URL;VALUE=URI:https://www.netcongschool.org/calendar/8821140/nj4s-executive
 -functioning-skills-presentation-in-the-gym
DTSTART:20260206T000000Z
DTEND:20260206T010000Z
END:VEVENT
END:VCALENDAR
