BEGIN:VCALENDAR
VERSION:2.0
PRODID:SchoolNow
CALSCALE:GREGORIAN
BEGIN:VEVENT
UID:56ab66a8-d5db-11f0-bf9a-0affebac11b3
DTSTAMP:20260419T090010Z
SUMMARY:BB Game AWAY at Ogdensburg
URL;VALUE=URI:https://www.netcongschool.org/calendar/8821145/bb-game-away-a
 t-ogdensburg
DTSTART:20260113T203000Z
DTEND:20260113T220000Z
END:VEVENT
END:VCALENDAR
