BEGIN:VCALENDAR
VERSION:2.0
PRODID:SchoolNow
CALSCALE:GREGORIAN
BEGIN:VEVENT
UID:d0fca09e-f187-11f0-b495-0a58a9feac02
DTSTAMP:20260419T090010Z
SUMMARY:BOE Mtg
URL;VALUE=URI:https://www.netcongschool.org/calendar/8836382/boe-mtg
DTSTART:20260526T230000Z
DTEND:20260527T010000Z
END:VEVENT
END:VCALENDAR
