BEGIN:VCALENDAR
VERSION:2.0
PRODID:SchoolNow
CALSCALE:GREGORIAN
BEGIN:VEVENT
UID:d0fca364-f187-11f0-b7cd-0a58a9feac02
DTSTAMP:20260419T090010Z
SUMMARY:WS Meeting
URL;VALUE=URI:https://www.netcongschool.org/calendar/8836384/ws-meeting
DTSTART:20260121T000000Z
DTEND:20260121T020000Z
END:VEVENT
END:VCALENDAR
