BEGIN:VCALENDAR
VERSION:2.0
PRODID:SchoolNow
CALSCALE:GREGORIAN
BEGIN:VEVENT
UID:d0fca83c-f187-11f0-b717-0a58a9feac02
DTSTAMP:20260421T033508Z
SUMMARY:BOE WS Mtg
URL;VALUE=URI:https://www.netcongschool.org/calendar/8836386/boe-ws-mtg
DTSTART:20260317T230000Z
DTEND:20260318T010000Z
END:VEVENT
END:VCALENDAR
