BEGIN:VCALENDAR
VERSION:2.0
PRODID:SchoolNow
CALSCALE:GREGORIAN
BEGIN:VEVENT
UID:d0fcaa26-f187-11f0-9731-0a58a9feac02
DTSTAMP:20260419T090010Z
SUMMARY:BOE WS Mtg
URL;VALUE=URI:https://www.netcongschool.org/calendar/8836387/boe-ws-mtg
DTSTART:20260519T230000Z
DTEND:20260520T010000Z
END:VEVENT
END:VCALENDAR
