BEGIN:VCALENDAR
VERSION:2.0
PRODID:SchoolNow
CALSCALE:GREGORIAN
BEGIN:VEVENT
UID:d0fcab66-f187-11f0-b83d-0a58a9feac02
DTSTAMP:20260419T150507Z
SUMMARY:BOE WS Mtg
URL;VALUE=URI:https://www.netcongschool.org/calendar/8836388/boe-ws-mtg
DTSTART:20260616T230000Z
DTEND:20260617T010000Z
END:VEVENT
END:VCALENDAR
