BEGIN:VCALENDAR
VERSION:2.0
PRODID:SchoolNow
CALSCALE:GREGORIAN
BEGIN:VEVENT
UID:d0fcac7e-f187-11f0-9cd9-0a58a9feac02
DTSTAMP:20260419T150507Z
SUMMARY:BOE WS Mtg
URL;VALUE=URI:https://www.netcongschool.org/calendar/8836389/boe-ws-mtg
DTSTART:20260721T230000Z
DTEND:20260722T010000Z
END:VEVENT
END:VCALENDAR
