BEGIN:VCALENDAR
VERSION:2.0
PRODID:SchoolNow
CALSCALE:GREGORIAN
BEGIN:VEVENT
UID:0a583798-f31f-11f0-9fbc-0a58a9feac02
DTSTAMP:20260419T090010Z
SUMMARY:BB Practice - Gym
URL;VALUE=URI:https://www.netcongschool.org/calendar/8837306/bb-practice-gy
 m
DTSTART:20260122T201500Z
DTEND:20260122T220000Z
END:VEVENT
END:VCALENDAR
