BEGIN:VCALENDAR
VERSION:2.0
PRODID:SchoolNow
CALSCALE:GREGORIAN
BEGIN:VEVENT
UID:610e6942-060a-11f1-ad4c-0a58a9feac02
DTSTAMP:20260419T211007Z
SUMMARY:BOE WS Mtg
URL;VALUE=URI:https://www.netcongschool.org/calendar/8851958/boe-ws-mtg
DTSTART:20261209T000000Z
DTEND:20261209T020000Z
END:VEVENT
END:VCALENDAR
