BEGIN:VCALENDAR
VERSION:2.0
PRODID:SchoolNow
CALSCALE:GREGORIAN
BEGIN:VEVENT
UID:610e6adc-060a-11f1-b0d4-0a58a9feac02
DTSTAMP:20260419T211007Z
SUMMARY:BOE WS Mtg
URL;VALUE=URI:https://www.netcongschool.org/calendar/8851959/boe-ws-mtg
DTSTART:20261013T230000Z
DTEND:20261014T010000Z
END:VEVENT
END:VCALENDAR
