BEGIN:VCALENDAR
VERSION:2.0
PRODID:SchoolNow
CALSCALE:GREGORIAN
BEGIN:VEVENT
UID:610e6c8a-060a-11f1-bd6f-0a58a9feac02
DTSTAMP:20260420T031507Z
SUMMARY:BOE Reorganization Meeting
URL;VALUE=URI:https://www.netcongschool.org/calendar/8851960/boe-reorganiza
 tion-meeting
DTSTART:20270106T000000Z
DTEND:20270106T020000Z
END:VEVENT
END:VCALENDAR
