BEGIN:VCALENDAR
VERSION:2.0
PRODID:SchoolNow
CALSCALE:GREGORIAN
BEGIN:VEVENT
UID:610e6e7e-060a-11f1-8034-0a58a9feac02
DTSTAMP:20260419T150507Z
SUMMARY:BOE Meeting
URL;VALUE=URI:https://www.netcongschool.org/calendar/8851961/boe-meeting
DTSTART:20260728T230000Z
DTEND:20260729T010000Z
END:VEVENT
END:VCALENDAR
