BEGIN:VCALENDAR
VERSION:2.0
PRODID:SchoolNow
CALSCALE:GREGORIAN
BEGIN:VEVENT
UID:610e6f78-060a-11f1-b4d2-0a58a9feac02
DTSTAMP:20260419T211007Z
SUMMARY:BOE WS Mtg
URL;VALUE=URI:https://www.netcongschool.org/calendar/8851962/boe-ws-mtg
DTSTART:20261111T000000Z
DTEND:20261111T020000Z
END:VEVENT
END:VCALENDAR
