BEGIN:VCALENDAR
VERSION:2.0
PRODID:SchoolNow
CALSCALE:GREGORIAN
BEGIN:VEVENT
UID:610e7108-060a-11f1-898e-0a58a9feac02
DTSTAMP:20260419T150507Z
SUMMARY:BOE Meeting
URL;VALUE=URI:https://www.netcongschool.org/calendar/8851963/boe-meeting
DTSTART:20260825T230000Z
DTEND:20260826T010000Z
END:VEVENT
END:VCALENDAR
