BEGIN:VCALENDAR
VERSION:2.0
PRODID:SchoolNow
CALSCALE:GREGORIAN
BEGIN:VEVENT
UID:610e7478-060a-11f1-837b-0a58a9feac02
DTSTAMP:20260419T211007Z
SUMMARY:BOE Meeting
URL;VALUE=URI:https://www.netcongschool.org/calendar/8851965/boe-meeting
DTSTART:20260922T230000Z
DTEND:20260923T010000Z
END:VEVENT
END:VCALENDAR
