BEGIN:VCALENDAR
VERSION:2.0
PRODID:SchoolNow
CALSCALE:GREGORIAN
BEGIN:VEVENT
UID:610e75a4-060a-11f1-b806-0a58a9feac02
DTSTAMP:20260420T031507Z
SUMMARY:BOE Mtg
URL;VALUE=URI:https://www.netcongschool.org/calendar/8851966/boe-mtg
DTSTART:20261216T000000Z
DTEND:20261216T020000Z
END:VEVENT
END:VCALENDAR
