BEGIN:VCALENDAR
VERSION:2.0
PRODID:SchoolNow
CALSCALE:GREGORIAN
BEGIN:VEVENT
UID:610e7748-060a-11f1-b117-0a58a9feac02
DTSTAMP:20260419T211007Z
SUMMARY:BOE Mtg
URL;VALUE=URI:https://www.netcongschool.org/calendar/8851967/boe-mtg
DTSTART:20261118T000000Z
DTEND:20261118T020000Z
END:VEVENT
END:VCALENDAR
