BEGIN:VCALENDAR
VERSION:2.0
PRODID:SchoolNow
CALSCALE:GREGORIAN
BEGIN:VEVENT
UID:37c668fe-093a-11f1-a40c-0a58a9feac02
DTSTAMP:20260420T213007Z
SUMMARY:Kurt's Bday
URL;VALUE=URI:https://www.netcongschool.org/calendar/8855605/kurts-bday
DTSTART;VALUE=DATE:20271014
DTEND;VALUE=DATE:20271015
END:VEVENT
END:VCALENDAR
