BEGIN:VCALENDAR
VERSION:2.0
PRODID:SchoolNow
CALSCALE:GREGORIAN
BEGIN:VEVENT
UID:06d61ad8-0d03-11f1-88d8-0e9079364e67
DTSTAMP:20260419T150507Z
SUMMARY:Girl Scout Mtg Troop #99228
URL;VALUE=URI:https://www.netcongschool.org/calendar/8859453/girl-scout-mtg
 -troop-99228
DTSTART:20260608T191500Z
DTEND:20260608T201500Z
END:VEVENT
END:VCALENDAR
