BEGIN:VCALENDAR
VERSION:2.0
PRODID:SchoolNow
CALSCALE:GREGORIAN
BEGIN:VEVENT
UID:06d61c7c-0d03-11f1-83ec-0e9079364e67
DTSTAMP:20260419T150507Z
SUMMARY:Early Act Club EOY Party with Seniors
URL;VALUE=URI:https://www.netcongschool.org/calendar/8859454/early-act-club
 -eoy-party-with-seniors
DTSTART:20260604T192000Z
DTEND:20260604T202000Z
END:VEVENT
END:VCALENDAR
