BEGIN:VCALENDAR
VERSION:2.0
PRODID:SchoolNow
CALSCALE:GREGORIAN
BEGIN:VEVENT
UID:06d61da8-0d03-11f1-aa9d-0e9079364e67
DTSTAMP:20260419T090010Z
SUMMARY:Pre K Trip to Ort Farm
URL;VALUE=URI:https://www.netcongschool.org/calendar/8859455/pre-k-trip-to-
 ort-farm
DTSTART:20260501T150000Z
DTEND:20260501T180000Z
END:VEVENT
END:VCALENDAR
