BEGIN:VCALENDAR
VERSION:2.0
PRODID:SchoolNow
CALSCALE:GREGORIAN
BEGIN:VEVENT
UID:06d61f60-0d03-11f1-9b27-0e9079364e67
DTSTAMP:20260419T090010Z
SUMMARY:Girl Scout Mtg Troop # 99228
URL;VALUE=URI:https://www.netcongschool.org/calendar/8859456/girl-scout-mtg
 -troop-99228
DTSTART:20260511T191500Z
DTEND:20260511T201500Z
END:VEVENT
END:VCALENDAR
