BEGIN:VCALENDAR
VERSION:2.0
PRODID:SchoolNow
CALSCALE:GREGORIAN
BEGIN:VEVENT
UID:06d625fa-0d03-11f1-9306-0e9079364e67
DTSTAMP:20260419T090010Z
SUMMARY:3rd Gr. Trip to Turtle Back Zoo
URL;VALUE=URI:https://www.netcongschool.org/calendar/8859461/3rd-gr-trip-to
 -turtle-back-zoo
DTSTART:20260529T130000Z
DTEND:20260529T184500Z
END:VEVENT
END:VCALENDAR
