BEGIN:VCALENDAR
VERSION:2.0
PRODID:SchoolNow
CALSCALE:GREGORIAN
BEGIN:VEVENT
UID:06d627da-0d03-11f1-bc61-0e9079364e67
DTSTAMP:20260419T090010Z
SUMMARY:Early Act Club Clean Lake
URL;VALUE=URI:https://www.netcongschool.org/calendar/8859462/early-act-club
 -clean-lake
DTSTART:20260507T192000Z
DTEND:20260507T202000Z
END:VEVENT
END:VCALENDAR
