BEGIN:VCALENDAR
VERSION:2.0
PRODID:SchoolNow
CALSCALE:GREGORIAN
BEGIN:VEVENT
UID:06d628e8-0d03-11f1-91a8-0e9079364e67
DTSTAMP:20260419T090010Z
SUMMARY:4th Gr. Trip to Hopatcong State Park
URL;VALUE=URI:https://www.netcongschool.org/calendar/8859463/4th-gr-trip-to
 -hopatcong-state-park
DTSTART:20260528T130000Z
DTEND:20260528T174500Z
END:VEVENT
END:VCALENDAR
