BEGIN:VCALENDAR
VERSION:2.0
PRODID:SchoolNow
CALSCALE:GREGORIAN
BEGIN:VEVENT
UID:06d62ef6-0d03-11f1-9646-0e9079364e67
DTSTAMP:20260421T033508Z
SUMMARY:Early Act Club 6th Trip to Food Pantry
URL;VALUE=URI:https://www.netcongschool.org/calendar/8859467/early-act-club
 -6th-trip-to-food-pantry
DTSTART:20260416T192000Z
DTEND:20260416T202000Z
END:VEVENT
END:VCALENDAR
