BEGIN:VCALENDAR
VERSION:2.0
PRODID:SchoolNow
CALSCALE:GREGORIAN
BEGIN:VEVENT
UID:06d62fe6-0d03-11f1-a538-0e9079364e67
DTSTAMP:20260419T090010Z
SUMMARY:High Notes Festival
URL;VALUE=URI:https://www.netcongschool.org/calendar/8859468/high-notes-fes
 tival
DTSTART:20260522T100000Z
DTEND:20260522T103000Z
END:VEVENT
END:VCALENDAR
