BEGIN:VCALENDAR
VERSION:2.0
PRODID:SchoolNow
CALSCALE:GREGORIAN
BEGIN:VEVENT
UID:06d63518-0d03-11f1-a3f9-0e9079364e67
DTSTAMP:20260421T033508Z
SUMMARY:Girl Scout Mtg Troop #99228
URL;VALUE=URI:https://www.netcongschool.org/calendar/8859473/girl-scout-mtg
 -troop-99228
DTSTART:20260309T191500Z
DTEND:20260309T201500Z
END:VEVENT
END:VCALENDAR
