BEGIN:VCALENDAR
VERSION:2.0
PRODID:SchoolNow
CALSCALE:GREGORIAN
BEGIN:VEVENT
UID:071e602c-0d03-11f1-be27-0e9079364e67
DTSTAMP:20260421T033508Z
SUMMARY:Early Act Club 5th Trip to Food Pantry
URL;VALUE=URI:https://www.netcongschool.org/calendar/8859475/early-act-club
 -5th-trip-to-food-pantry
DTSTART:20260305T202000Z
DTEND:20260305T212000Z
END:VEVENT
END:VCALENDAR
