BEGIN:VCALENDAR
VERSION:2.0
PRODID:SchoolNow
CALSCALE:GREGORIAN
BEGIN:VEVENT
UID:82eed164-172b-11f1-8f7e-0ed07685e3bd
DTSTAMP:20260421T033508Z
SUMMARY:Netcong Recreation Egg Hunt - Gym
URL;VALUE=URI:https://www.netcongschool.org/calendar/8887787/netcong-recrea
 tion-egg-hunt-gym
DTSTART:20260328T150000Z
DTEND:20260328T210000Z
END:VEVENT
END:VCALENDAR
